BEGIN:VCALENDAR
VERSION:2.0
PRODID:-//wp-events-plugin.com//7.2.2.1//EN
TZID:Europe/Berlin
X-WR-TIMEZONE:Europe/Berlin
BEGIN:VEVENT
UID:85@tabakerka.de
DTSTART;TZID=Europe/Berlin:20200406T090000
DTEND;TZID=Europe/Berlin:20200417T160000
DTSTAMP:20200129T094110Z
URL:https://www.tabakerka.de/events/vhs_camp/
SUMMARY:Лагерь на весенних каникулах для шко
 льников!
DESCRIPTION:06-17.04.20\, 9:00-16:00 VHS Франкфурт! Лагерь 
 на весенних каникулах для школьников (8-12
  лет) с Малышкой Бегемоти и "Сказками из т
 абакерки". Программа первой и второй нед
 ели не повторяются. Она включает в себя у
 влекательные творческие уроки\, изучени
 е русского языка\, а также посещение мест
 \, связанных с русским языком и культурой
 . Мы предлагаем познакомиться с традицио
 нными народными промыслами\, игрушками и
  сказками\, в игровой форме расширить сло
 варный запас и пополнить литературный б
 агаж\, а также отдохнуть от школы и завес
 ти новых друзей!
ATTACH;FMTTYPE=image/jpeg:https://www.tabakerka.de/wp-content/uploads/2018
 /08/FrontPage_tree_crop.jpg
CATEGORIES:Семинар
LOCATION:VHS Frankfurt\, Sonnemannstraße 13\, Frankfurt am Main\, 60314\, 
 Германия
GEO:50.1101492;8.698706600000037
X-APPLE-STRUCTURED-LOCATION;VALUE=URI;X-ADDRESS=Sonnemannstraße 13\, Frank
 furt am Main\, 60314\, Германия;X-APPLE-RADIUS=100;X-TITLE=VHS Fra
 nkfurt:geo:50.1101492,8.698706600000037
END:VEVENT
BEGIN:VTIMEZONE
TZID:Europe/Berlin
X-LIC-LOCATION:Europe/Berlin
BEGIN:DAYLIGHT
DTSTART:20200329T030000
TZOFFSETFROM:+0100
TZOFFSETTO:+0200
TZNAME:CEST
END:DAYLIGHT
END:VTIMEZONE
END:VCALENDAR