BEGIN:VCALENDAR
VERSION:2.0
PRODID:-//wp-events-plugin.com//7.2.2.1//EN
TZID:Europe/Berlin
X-WR-TIMEZONE:Europe/Berlin
BEGIN:VEVENT
UID:172@tabakerka.de
DTSTART;TZID=Europe/Berlin:20240511T150000
DTEND;TZID=Europe/Berlin:20240511T163000
DTSTAMP:20240508T173806Z
URL:https://www.tabakerka.de/events/staedel/
SUMMARY:От старых мастеров до абстракциониз
 ма
DESCRIPTION:Экскурсия по картинной галерее дл
 я детей. Будем наслаждаться прекрасным: 
 нас ждут 700 лет истории искусства. Погово
 рим о людях\, о картинах - как их рисуют? К
 ак мешивают краски? Зачем рисуют картины
  и о чем нам могут рассказать полотна? Ка
 к вообще устроена картинная галерея? Есл
 и будет не слишком многолюдно\, то порису
 ем сами!\nДля детей 5-11 лет.
ATTACH;FMTTYPE=image/jpeg:https://www.tabakerka.de/wp-content/uploads/2024
 /04/F160C61A-E5E5-4B5D-B1AD-C3A17741C1D9_1_105_c-e1713524793359.jpeg
CATEGORIES:Экскурсия
LOCATION:Staedel Museum\, Schaumainkai 63 \, Frankfurt am Main\, 60596\, Г
 ермания
GEO:50.1030925;8.67405830000007
X-APPLE-STRUCTURED-LOCATION;VALUE=URI;X-ADDRESS=Schaumainkai 63 \, Frankfur
 t am Main\, 60596\, Германия;X-APPLE-RADIUS=100;X-TITLE=Staedel Mu
 seum:geo:50.1030925,8.67405830000007
END:VEVENT
BEGIN:VTIMEZONE
TZID:Europe/Berlin
X-LIC-LOCATION:Europe/Berlin
BEGIN:DAYLIGHT
DTSTART:20240331T030000
TZOFFSETFROM:+0100
TZOFFSETTO:+0200
TZNAME:CEST
END:DAYLIGHT
END:VTIMEZONE
END:VCALENDAR