BEGIN:VCALENDAR
VERSION:2.0
PRODID:-//wp-events-plugin.com//7.2.2.1//EN
TZID:Europe/Berlin
X-WR-TIMEZONE:Europe/Berlin
BEGIN:VEVENT
UID:120@tabakerka.de
DTSTART;TZID=Europe/Berlin:20220606T101500
DTEND;TZID=Europe/Berlin:20220606T113000
DTSTAMP:20251024T122741Z
URL:https://www.tabakerka.de/events/renoir3/
SUMMARY:Ренуар в музее Штедель
DESCRIPTION:Блистательная выставка в детском 
 измерении: увидеть картины\, узнать боль
 ше\, чем может рассказать просто изображ
 ение\; услышать\, почувствовать и даже... п
 отрогать картины!\nДля детей 6-12 лет.
ATTACH;FMTTYPE=image/jpeg:https://www.tabakerka.de/wp-content/uploads/2022
 /05/renoir.jpg
CATEGORIES:Чтение
LOCATION:Staedel Museum\, Schaumainkai 63 \, Frankfurt am Main\, 60596\, Г
 ермания
GEO:50.1030925;8.67405830000007
X-APPLE-STRUCTURED-LOCATION;VALUE=URI;X-ADDRESS=Schaumainkai 63 \, Frankfur
 t am Main\, 60596\, Германия;X-APPLE-RADIUS=100;X-TITLE=Staedel Mu
 seum:geo:50.1030925,8.67405830000007
END:VEVENT
BEGIN:VTIMEZONE
TZID:Europe/Berlin
X-LIC-LOCATION:Europe/Berlin
BEGIN:DAYLIGHT
DTSTART:20220327T030000
TZOFFSETFROM:+0100
TZOFFSETTO:+0200
TZNAME:CEST
END:DAYLIGHT
END:VTIMEZONE
END:VCALENDAR