BEGIN:VCALENDAR
VERSION:2.0
PRODID:-//wp-events-plugin.com//7.2.2.1//EN
TZID:Europe/Berlin
X-WR-TIMEZONE:Europe/Berlin
BEGIN:VEVENT
UID:198@tabakerka.de
DTSTART;TZID=Europe/Berlin:20250319T160000
DTEND;TZID=Europe/Berlin:20250319T174500
DTSTAMP:20250221T095426Z
URL:https://www.tabakerka.de/events/ostern-2/
SUMMARY:Мастер-класс по изготовлению пасхал
 ьных венков
DESCRIPTION:Креативный мастер-класс: из мягкой
  шерсти и ярких помпонов вы сделаете чуд
 есное украшение\, а дополнительные элеме
 нты декора превратят ваше творение в нас
 тоящий весенний шедевр!\nНа мастер-класс
 е каждый участник научится делать пушис
 тые помпоны и собирать отдельные компон
 енты в красивый венок\, который будет иде
 ально смотреться как на двери\, так и на п
 раздничном столе. Этот венок станет отли
 чным дополнением к вашему пасхальному д
 екору и создаст атмосферу уюта и радости
  в вашем доме.\nДля детей старше 7 лет и вз
 рослых. 
ATTACH;FMTTYPE=image/jpeg:https://www.tabakerka.de/wp-content/uploads/2025
 /02/venok2.jpg
CATEGORIES:Мастер-класс
LOCATION:Cafe Aroma\, Frankfurter Straße 110\, Bad Vilbel\, Германи
 я
GEO:50.179571;8.736728
X-APPLE-STRUCTURED-LOCATION;VALUE=URI;X-ADDRESS=Frankfurter Straße 110\, B
 ad Vilbel\, Германия;X-APPLE-RADIUS=100;X-TITLE=Cafe Aroma:geo:50.
 179571,8.736728
END:VEVENT
BEGIN:VTIMEZONE
TZID:Europe/Berlin
X-LIC-LOCATION:Europe/Berlin
BEGIN:STANDARD
DTSTART:20241027T020000
TZOFFSETFROM:+0200
TZOFFSETTO:+0100
TZNAME:CET
END:STANDARD
END:VTIMEZONE
END:VCALENDAR