BEGIN:VCALENDAR
VERSION:2.0
PRODID:-//wp-events-plugin.com//7.2.2.1//EN
TZID:Europe/Berlin
X-WR-TIMEZONE:Europe/Berlin
BEGIN:VEVENT
UID:159@tabakerka.de
DTSTART;TZID=Europe/Berlin:20240414T130000
DTEND;TZID=Europe/Berlin:20240414T150000
DTSTAMP:20240422T232354Z
URL:https://www.tabakerka.de/events/murawei2/
SUMMARY:Как муравьишка домой спешил
DESCRIPTION:Любимая и знакомая с детства сказк
 а в идеальном окружении: где еще читать и
 сторию В.Бианки про маленького муравьиш
 ку и других насекомых\, как не в самом нас
 тоящем лесу?\nВстречаемся в парке\, под бе
 резой. Изучим 5* отель для насекомых\, а по
 том отправимся на поиски  приключений\, в
 ооружившись лупами\, цветовыми картами и
  заданиями для "находилок".\nДля детей 6-9 л
 ет.
ATTACH;FMTTYPE=image/jpeg:https://www.tabakerka.de/wp-content/uploads/2020
 /05/muravei.jpg
CATEGORIES:Чтение
LOCATION:Arboretum Main-Taunus\, Am weißen Stein\, Eschborn\, Герман
 ия
GEO:50.133008;8.556337
X-APPLE-STRUCTURED-LOCATION;VALUE=URI;X-ADDRESS=Am weißen Stein\, Eschborn
 \, Германия;X-APPLE-RADIUS=100;X-TITLE=Arboretum Main-Taunus:geo:5
 0.133008,8.556337
END:VEVENT
BEGIN:VTIMEZONE
TZID:Europe/Berlin
X-LIC-LOCATION:Europe/Berlin
BEGIN:DAYLIGHT
DTSTART:20240331T030000
TZOFFSETFROM:+0100
TZOFFSETTO:+0200
TZNAME:CEST
END:DAYLIGHT
END:VTIMEZONE
END:VCALENDAR