BEGIN:VCALENDAR
VERSION:2.0
PRODID:-//wp-events-plugin.com//7.2.2.1//EN
TZID:Europe/Berlin
X-WR-TIMEZONE:Europe/Berlin
BEGIN:VEVENT
UID:224@tabakerka.de
DTSTART;TZID=Europe/Berlin:20260614T100000
DTEND;TZID=Europe/Berlin:20260614T111500
DTSTAMP:20260423T104413Z
URL:https://www.tabakerka.de/events/monet1406/
SUMMARY:Выставка Моне в музее Штедель
DESCRIPTION:Выставка в картинной галерее с дет
 ьми: наслаждаемся прекрасным и обсуждае
 м увиденное на понятном детям языке.  Сов
 ершим виртуальное путешествие на Алебас
 тровый берег. Поговорим о туризме\, о худ
 ожниках\, о картинах - как их рисуют? Как с
 мешивают краски? Зачем вообще рисуют кар
 тины и о чем нам могут рассказать полотн
 а? Для детей 7-15 лет.
ATTACH;FMTTYPE=image/jpeg:https://www.tabakerka.de/wp-content/uploads/2026
 /04/monet4-scaled.jpg
CATEGORIES:Экскурсия
LOCATION:Staedel Museum\, Schaumainkai 63 \, Frankfurt am Main\, 60596\, Г
 ермания
GEO:50.1030925;8.67405830000007
X-APPLE-STRUCTURED-LOCATION;VALUE=URI;X-ADDRESS=Schaumainkai 63 \, Frankfur
 t am Main\, 60596\, Германия;X-APPLE-RADIUS=100;X-TITLE=Staedel Mu
 seum:geo:50.1030925,8.67405830000007
END:VEVENT
BEGIN:VTIMEZONE
TZID:Europe/Berlin
X-LIC-LOCATION:Europe/Berlin
BEGIN:DAYLIGHT
DTSTART:20260329T030000
TZOFFSETFROM:+0100
TZOFFSETTO:+0200
TZNAME:CEST
END:DAYLIGHT
END:VTIMEZONE
END:VCALENDAR