BEGIN:VCALENDAR
VERSION:2.0
PRODID:-//wp-events-plugin.com//7.2.2.1//EN
TZID:Europe/Berlin
X-WR-TIMEZONE:Europe/Berlin
BEGIN:VEVENT
UID:176@tabakerka.de
DTSTART;TZID=Europe/Berlin:20241102T144500
DTEND;TZID=Europe/Berlin:20241102T161500
DTSTAMP:20241011T202515Z
URL:https://www.tabakerka.de/events/math1/
SUMMARY:ДРОБИ: скорая математическая помощь
DESCRIPTION:Представьте\, что с помощью просты
 х примеров с яблоками и тортами ваш ребё
 нок легко научится одной из самых сложны
 х тем для учеников 4-7 классов — обыкнове
 нным дробям. \nНа этом необычном уроке ре
 бята не только поймут\, как складывать\, у
 множать и сравнивать дроби\, но и узнают\,
  почему умножать дроби проще\, чем склады
 вать. Важные понятия будут разъяснены на
  понятных примерах\, а ключевые математи
 ческие операции с дробями станут просты
 ми и доступными. Для детей 9-13 лет.
ATTACH;FMTTYPE=image/jpeg:https://www.tabakerka.de/wp-content/uploads/2024
 /10/book-with-green-board-background_1150-3836.jpeg
CATEGORIES:Семинар
LOCATION:Субботняя школа «Слово»\, Martin-Elsässer-We
 g 6\, Frankfurt am Main\, 60314\, Германия
GEO:50.110571;8.697906
X-APPLE-STRUCTURED-LOCATION;VALUE=URI;X-ADDRESS=Martin-Elsässer-Weg 6\, Fr
 ankfurt am Main\, 60314\, Германия;X-APPLE-RADIUS=100;X-TITLE=Су
 бботняя школа «Слово»:geo:50.110571,8.697906
END:VEVENT
BEGIN:VTIMEZONE
TZID:Europe/Berlin
X-LIC-LOCATION:Europe/Berlin
BEGIN:STANDARD
DTSTART:20241027T020000
TZOFFSETFROM:+0200
TZOFFSETTO:+0100
TZNAME:CET
END:STANDARD
END:VTIMEZONE
END:VCALENDAR