BEGIN:VCALENDAR
VERSION:2.0
PRODID:-//wp-events-plugin.com//7.2.2.1//EN
TZID:Europe/Berlin
X-WR-TIMEZONE:Europe/Berlin
BEGIN:VEVENT
UID:18@tabakerka.de
DTSTART;TZID=Europe/Berlin:20190430T193000
DTEND;TZID=Europe/Berlin:20190430T193000
DTSTAMP:20190829T210911Z
URL:https://www.tabakerka.de/events/legends/
SUMMARY:Легенды ночного неба
DESCRIPTION:Выше\, к звездам!\nВстречаемся в сам
 ой настоящей обсерватории. Будем смотре
 ть на планеты и звезды в телескоп\, постр
 оим живой макет нашей солнечной системы.
 \nИ\, конечно\, читать тоже будем. Нас ждет 
 волшебная книга Аниты Ганери «Легенды н
 очного неба» с историями народов мира о 
 созвездиях.
ATTACH;FMTTYPE=image/jpeg:https://www.tabakerka.de/wp-content/uploads/2019
 /01/legendy_nochnogo_neba-e1548278462389.jpg
CATEGORIES:Чтение
LOCATION:Sternwarte Hofheim\, Sternwarte Hofheim\, Eppsteiner Straße\, Hof
 heim am Taunus\, 65719\, Германия
GEO:50.1137113;8.393858499999965
X-APPLE-STRUCTURED-LOCATION;VALUE=URI;X-ADDRESS=Sternwarte Hofheim\, Eppste
 iner Straße\, Hofheim am Taunus\, 65719\, Германия;X-APPLE-RADIUS
 =100;X-TITLE=Sternwarte Hofheim:geo:50.1137113,8.393858499999965
END:VEVENT
BEGIN:VTIMEZONE
TZID:Europe/Berlin
X-LIC-LOCATION:Europe/Berlin
BEGIN:DAYLIGHT
DTSTART:20190331T030000
TZOFFSETFROM:+0100
TZOFFSETTO:+0200
TZNAME:CEST
END:DAYLIGHT
END:VTIMEZONE
END:VCALENDAR