BEGIN:VCALENDAR
VERSION:2.0
PRODID:-//wp-events-plugin.com//7.2.2.1//EN
TZID:Europe/Berlin
X-WR-TIMEZONE:Europe/Berlin
BEGIN:VEVENT
UID:190@tabakerka.de
DTSTART;TZID=Europe/Berlin:20250212T163000
DTEND;TZID=Europe/Berlin:20250212T180000
DTSTAMP:20250212T081727Z
URL:https://www.tabakerka.de/events/gruffalo/
SUMMARY:Груффало
DESCRIPTION:В волшебном книжном пространстве 
 мы познакомимся с необыкновенной истори
 ей маленькой мышки\, которая решительно 
 противостоит страшному чудовищу — Груф
 фало! Вместе с мышкой дети отправятся в у
 дивительное путешествие\, где они научат
 ся быть смелыми\, дружелюбными и находчи
 выми. \nВ программе: чтение книги с пальчи
 ковыми куклами\; игры и загадки по мотива
 м истории\; творческая мастерская: масте
 рим шипы Груффало для каждого участника 
 мероприятия.\nБудет много веселья\, удиви
 тельных открытий и\, конечно\, сказочных 
 приключений! \nДля детей 3-6 лет.
ATTACH;FMTTYPE=image/jpeg:https://www.tabakerka.de/wp-content/uploads/2025
 /01/Gruffalo_icon-scaled.jpg
CATEGORIES:Чтение
LOCATION:Книжная Нора\, Rauenthaler Str. 4\, Wiesbaden\, Гер
 мания
GEO:50.076569;8.228582
X-APPLE-STRUCTURED-LOCATION;VALUE=URI;X-ADDRESS=Rauenthaler Str. 4\, Wiesba
 den\, Германия;X-APPLE-RADIUS=100;X-TITLE=Книжная Нора:
 geo:50.076569,8.228582
END:VEVENT
BEGIN:VTIMEZONE
TZID:Europe/Berlin
X-LIC-LOCATION:Europe/Berlin
BEGIN:STANDARD
DTSTART:20241027T020000
TZOFFSETFROM:+0200
TZOFFSETTO:+0100
TZNAME:CET
END:STANDARD
END:VTIMEZONE
END:VCALENDAR