BEGIN:VCALENDAR
VERSION:2.0
PRODID:-//wp-events-plugin.com//7.2.2.1//EN
TZID:Europe/Berlin
X-WR-TIMEZONE:Europe/Berlin
BEGIN:VEVENT
UID:189@tabakerka.de
DTSTART;TZID=Europe/Berlin:20250215T160000
DTEND;TZID=Europe/Berlin:20250215T173000
DTSTAMP:20250205T104659Z
URL:https://www.tabakerka.de/events/giraffe3/
SUMMARY:Танцующий жираф
DESCRIPTION:Наша встреча для юных читателей от
  1\,5 до 4-х лет.\nПрочитаем одну из самых тр
 огательных детских историй\, познакомим
 ся с ее героями и узнаем все о жирафах: об
  их пятнах\, повадках и характере\, что он
 и любят и где спят?\nНас ждут танцы и шуто
 чная гимнастика\, поделки\, доступные даж
 е для самых-самых маленьких\, и много вес
 елья.
ATTACH;FMTTYPE=image/jpeg:https://www.tabakerka.de/wp-content/uploads/2019
 /09/Zhiraf0.png
CATEGORIES:Чтение
LOCATION:Книжная Нора\, Rauenthaler Str. 4\, Wiesbaden\, Гер
 мания
GEO:50.076569;8.228582
X-APPLE-STRUCTURED-LOCATION;VALUE=URI;X-ADDRESS=Rauenthaler Str. 4\, Wiesba
 den\, Германия;X-APPLE-RADIUS=100;X-TITLE=Книжная Нора:
 geo:50.076569,8.228582
END:VEVENT
BEGIN:VTIMEZONE
TZID:Europe/Berlin
X-LIC-LOCATION:Europe/Berlin
BEGIN:STANDARD
DTSTART:20241027T020000
TZOFFSETFROM:+0200
TZOFFSETTO:+0100
TZNAME:CET
END:STANDARD
END:VTIMEZONE
END:VCALENDAR