BEGIN:VCALENDAR
VERSION:2.0
PRODID:-//wp-events-plugin.com//7.2.2.1//EN
TZID:Europe/Berlin
X-WR-TIMEZONE:Europe/Berlin
BEGIN:VEVENT
UID:9@tabakerka.de
DTSTART;TZID=Europe/Berlin:20181107T170000
DTEND;TZID=Europe/Berlin:20181107T170000
DTSTAMP:20181110T070423Z
URL:https://www.tabakerka.de/events/dinosaurs2/
SUMMARY:И снова динозавры (повтор)
DESCRIPTION:Музей Senckenberg открывает свои двери 
 для юных читателей. Перенесемся в эпоху 
 динозавров\, посмотрим на доисторически
 х гигантов (и потрогаем!)\, узнаем\, какими
  они были и даже устроим мини-пикник с ди
 нозаврами. Для детей 4-8 лет.
ATTACH;FMTTYPE=image/jpeg:https://www.tabakerka.de/wp-content/uploads/2018
 /09/dinosaurs2-e1538077527199.jpg
CATEGORIES:Чтение
LOCATION:Senckenberg Museum\, Senckenberganlage 25\, Frankfurt am Main\, 60
 325\, Германия
GEO:50.11741;8.651970000000006
X-APPLE-STRUCTURED-LOCATION;VALUE=URI;X-ADDRESS=Senckenberganlage 25\, Fran
 kfurt am Main\, 60325\, Германия;X-APPLE-RADIUS=100;X-TITLE=Sencke
 nberg Museum:geo:50.11741,8.651970000000006
END:VEVENT
BEGIN:VTIMEZONE
TZID:Europe/Berlin
X-LIC-LOCATION:Europe/Berlin
BEGIN:STANDARD
DTSTART:20181028T020000
TZOFFSETFROM:+0200
TZOFFSETTO:+0100
TZNAME:CET
END:STANDARD
END:VTIMEZONE
END:VCALENDAR