BEGIN:VCALENDAR
VERSION:2.0
PRODID:-//wp-events-plugin.com//7.2.2.1//EN
TZID:Europe/Berlin
X-WR-TIMEZONE:Europe/Berlin
BEGIN:VEVENT
UID:156@tabakerka.de
DTSTART;TZID=Europe/Berlin:20240403T171500
DTEND;TZID=Europe/Berlin:20240403T183000
DTSTAMP:20240307T110236Z
URL:https://www.tabakerka.de/events/dinos/
SUMMARY:Такие разные динозавры (часть 1\, повт
 ор)
DESCRIPTION:Музей Senckenberg открывает свои двери 
 для юных читателей. Перенесемся в эпоху 
 динозавров\, посмотрим на доисторически
 х гигантов (и потрогаем!)\, узнаем\, какими
  они были и даже устроим мини-пикник с ди
 нозаврами. Для детей 5-9 лет.
ATTACH;FMTTYPE=image/jpeg:https://www.tabakerka.de/wp-content/uploads/2018
 /08/dinosaurs-e1535579750446.jpg
CATEGORIES:Чтение
LOCATION:Senckenberg Museum\, Senckenberganlage 25\, Frankfurt am Main\, 60
 325\, Германия
GEO:50.11741;8.651970000000006
X-APPLE-STRUCTURED-LOCATION;VALUE=URI;X-ADDRESS=Senckenberganlage 25\, Fran
 kfurt am Main\, 60325\, Германия;X-APPLE-RADIUS=100;X-TITLE=Sencke
 nberg Museum:geo:50.11741,8.651970000000006
END:VEVENT
BEGIN:VTIMEZONE
TZID:Europe/Berlin
X-LIC-LOCATION:Europe/Berlin
BEGIN:DAYLIGHT
DTSTART:20240331T030000
TZOFFSETFROM:+0100
TZOFFSETTO:+0200
TZNAME:CEST
END:DAYLIGHT
END:VTIMEZONE
END:VCALENDAR