BEGIN:VCALENDAR
VERSION:2.0
PRODID:-//wp-events-plugin.com//7.2.2.1//EN
TZID:Europe/Berlin
X-WR-TIMEZONE:Europe/Berlin
BEGIN:VEVENT
UID:136@tabakerka.de
DTSTART;TZID=Europe/Berlin:20230115T113000
DTEND;TZID=Europe/Berlin:20230115T123000
DTSTAMP:20230106T080352Z
URL:https://www.tabakerka.de/events/chagall-schirn2/
SUMMARY:Шагал в музее Ширн
DESCRIPTION:Мир в смятении:  30-е - 40-е годы XX века
 . Тяжелые времена\, трудные темы на самой 
 масштабной выставке картин Марка Шагала
  в Германии за последние тридцать лет. Бу
 дем обсуждать и рассуждать\, искать отве
 ты\, мечтать и творить. \nДля детей 7-12 лет.
ATTACH;FMTTYPE=image/jpeg:https://www.tabakerka.de/wp-content/uploads/2022
 /12/BonjourParis-scaled.jpg
CATEGORIES:Чтение
LOCATION:Schirn Kunsthalle\, Schirn Kunsthalle\, Frankfurt am Main\, 60311\
 , Германия
GEO:50.110311;8.683703
X-APPLE-STRUCTURED-LOCATION;VALUE=URI;X-ADDRESS=Schirn Kunsthalle\, Frankfu
 rt am Main\, 60311\, Германия;X-APPLE-RADIUS=100;X-TITLE=Schirn Ku
 nsthalle:geo:50.110311,8.683703
END:VEVENT
BEGIN:VTIMEZONE
TZID:Europe/Berlin
X-LIC-LOCATION:Europe/Berlin
BEGIN:STANDARD
DTSTART:20221030T020000
TZOFFSETFROM:+0200
TZOFFSETTO:+0100
TZNAME:CET
END:STANDARD
END:VTIMEZONE
END:VCALENDAR