BEGIN:VCALENDAR
VERSION:2.0
PRODID:-//wp-events-plugin.com//7.2.2.1//EN
TZID:Europe/Berlin
X-WR-TIMEZONE:Europe/Berlin
BEGIN:VEVENT
UID:209@tabakerka.de
DTSTART;TZID=Europe/Berlin:20250510T153000
DTEND;TZID=Europe/Berlin:20250510T170000
DTSTAMP:20250509T073052Z
URL:https://www.tabakerka.de/events/berta3/
SUMMARY:Громкие чтения "Уши королевы Берты"
DESCRIPTION:Маленькие любители сказок\, специа
 льно для вас: увлекательный вечер в люби
 мом книжном пространстве! В этот раз мы п
 ознакомимся с доброй и трогательной ист
 орией Анны Никольской "Уши королевы Берт
 ы". \nСложно ли хранить тайну? А что будет\,
  если она вдруг перестанет быть секретом
  для целого королевства? Мы узнаем\, как к
 оролева Берта научилась быть уверенной 
 в себе. Прически знатных дам изучим\, в не
 большом мастер-классе поучаствуем\, а за
 одно и уши королевы Берты на себя пример
 им\, не простые\, но самые что ни на есть к
 оролевские! Для детей 5-9 лет.
ATTACH;FMTTYPE=image/jpeg:https://www.tabakerka.de/wp-content/uploads/2025
 /02/berta.jpg
CATEGORIES:Чтение
LOCATION:Книжная Нора\, Rauenthaler Str. 4\, Wiesbaden\, Гер
 мания
GEO:50.076569;8.228582
X-APPLE-STRUCTURED-LOCATION;VALUE=URI;X-ADDRESS=Rauenthaler Str. 4\, Wiesba
 den\, Германия;X-APPLE-RADIUS=100;X-TITLE=Книжная Нора:
 geo:50.076569,8.228582
END:VEVENT
BEGIN:VTIMEZONE
TZID:Europe/Berlin
X-LIC-LOCATION:Europe/Berlin
BEGIN:DAYLIGHT
DTSTART:20250330T030000
TZOFFSETFROM:+0100
TZOFFSETTO:+0200
TZNAME:CEST
END:DAYLIGHT
END:VTIMEZONE
END:VCALENDAR