BEGIN:VCALENDAR
VERSION:2.0
PRODID:-//wp-events-plugin.com//7.2.2.1//EN
TZID:Europe/Berlin
X-WR-TIMEZONE:Europe/Berlin
BEGIN:VEVENT
UID:37@tabakerka.de
DTSTART;TZID=Europe/Berlin:20190601T100000
DTEND;TZID=Europe/Berlin:20190601T120000
DTSTAMP:20190531T170648Z
URL:https://www.tabakerka.de/events/art_2/
SUMMARY:БЕРЛИН. Мастер-класс "Как говорить с 
 детьми об искусстве"
DESCRIPTION:Утренний чай в уютном кафе\, без му
 жей\, детей и домашних питомцев: готовимс
 я говорить с детьми об искусстве и сами г
 оворим о нем. Поздно\, рано или уже пора? К
 ак смотреть на картины? А если я ничего н
 е знаю\, что рассказывать? Обсудим и эти\, 
 и многие другие вопросы.
ATTACH;FMTTYPE=image/jpeg:https://www.tabakerka.de/wp-content/uploads/2019
 /03/art.jpg
CATEGORIES:Семинар
LOCATION:OstPost\, Choriner Str. 84\, Berlin\, Германия
GEO:52.5312067;13.405126699999983
X-APPLE-STRUCTURED-LOCATION;VALUE=URI;X-ADDRESS=Choriner Str. 84\, Berlin\,
  Германия;X-APPLE-RADIUS=100;X-TITLE=OstPost:geo:52.5312067,13.405
 126699999983
END:VEVENT
BEGIN:VTIMEZONE
TZID:Europe/Berlin
X-LIC-LOCATION:Europe/Berlin
BEGIN:DAYLIGHT
DTSTART:20190331T030000
TZOFFSETFROM:+0100
TZOFFSETTO:+0200
TZNAME:CEST
END:DAYLIGHT
END:VTIMEZONE
END:VCALENDAR