BEGIN:VCALENDAR
VERSION:2.0
PRODID:-//wp-events-plugin.com//7.2.2.1//EN
TZID:Europe/Berlin
X-WR-TIMEZONE:Europe/Berlin
BEGIN:VEVENT
UID:28@tabakerka.de
DTSTART;TZID=Europe/Berlin:20190310T140000
DTEND;TZID=Europe/Berlin:20190310T180000
DTSTAMP:20190324T114658Z
URL:https://www.tabakerka.de/events/alice_workshop/
SUMMARY:Песочный театр "Алиса в Стране Чудес"
  и мастер-класс
DESCRIPTION:Шоу и мастер-класс! Вас ждет удивит
 ельное песочное шоу для всей семьи и 2 ча
 са совместного творчества\, с использова
 нием специальных песочных столов. Под ру
 ками Сьюзанн Санд оживут картины из неве
 роятной истории Алисы\, перетекая одна в 
 другую - вам точно захочется погостить в 
 песочном королевстве как можно дольше. Д
 ля детей от 6 лет и взрослых.
ATTACH;FMTTYPE=image/jpeg:https://www.tabakerka.de/wp-content/uploads/2019
 /02/alice5.jpeg
CATEGORIES:Праздник
LOCATION:Krebsmühle\, Krebsmühle - Krebsmühlenweg 1\, Oberursel (Taunus)
 \, 61440\, Германия
GEO:50.1762847;8.608703300000002
X-APPLE-STRUCTURED-LOCATION;VALUE=URI;X-ADDRESS=Krebsmühle - Krebsmühlenw
 eg 1\, Oberursel (Taunus)\, 61440\, Германия;X-APPLE-RADIUS=100;X-
 TITLE=Krebsmühle:geo:50.1762847,8.608703300000002
END:VEVENT
BEGIN:VTIMEZONE
TZID:Europe/Berlin
X-LIC-LOCATION:Europe/Berlin
BEGIN:STANDARD
DTSTART:20181028T020000
TZOFFSETFROM:+0200
TZOFFSETTO:+0100
TZNAME:CET
END:STANDARD
END:VTIMEZONE
END:VCALENDAR