BEGIN:VCALENDAR
VERSION:2.0
PRODID:-//wp-events-plugin.com//7.2.2.1//EN
TZID:Europe/Berlin
X-WR-TIMEZONE:Europe/Berlin
BEGIN:VEVENT
UID:26@tabakerka.de
DTSTART;TZID=Europe/Berlin:20190310T110000
DTEND;TZID=Europe/Berlin:20190310T120000
DTSTAMP:20190324T094835Z
URL:https://www.tabakerka.de/events/alice1/
SUMMARY:Песочный театр "Алиса в Стране Чудес"
DESCRIPTION:Добро пожаловать в сказку\, или ныр
 яйте скорее вслед за кроликом! Фея песка 
 будет рисовать живые картины на професс
 иональном световом планшете. Рассмотрет
 ь все детали вы сможете на большом экран
 е\, куда мимолетные шедевры будут проеци
 роваться в режиме реального времени. Для
  детей 2-5 лет.
ATTACH;FMTTYPE=image/jpeg:https://www.tabakerka.de/wp-content/uploads/2019
 /02/alice1.jpeg
CATEGORIES:Праздник
LOCATION:Krebsmühle\, Krebsmühle - Krebsmühlenweg 1\, Oberursel (Taunus)
 \, 61440\, Германия
GEO:50.1762847;8.608703300000002
X-APPLE-STRUCTURED-LOCATION;VALUE=URI;X-ADDRESS=Krebsmühle - Krebsmühlenw
 eg 1\, Oberursel (Taunus)\, 61440\, Германия;X-APPLE-RADIUS=100;X-
 TITLE=Krebsmühle:geo:50.1762847,8.608703300000002
END:VEVENT
BEGIN:VTIMEZONE
TZID:Europe/Berlin
X-LIC-LOCATION:Europe/Berlin
BEGIN:STANDARD
DTSTART:20181028T020000
TZOFFSETFROM:+0200
TZOFFSETTO:+0100
TZNAME:CET
END:STANDARD
END:VTIMEZONE
END:VCALENDAR